BEGIN:VCALENDAR
VERSION:2.0
PRODID:-//Lesson Learned Solutions - ECPv6.0.7//NONSGML v1.0//EN
CALSCALE:GREGORIAN
METHOD:PUBLISH
X-WR-CALNAME:Lesson Learned Solutions
X-ORIGINAL-URL:https://lessonslearnedsol.com
X-WR-CALDESC:Events for Lesson Learned Solutions
REFRESH-INTERVAL;VALUE=DURATION:PT1H
X-Robots-Tag:noindex
X-PUBLISHED-TTL:PT1H
BEGIN:VTIMEZONE
TZID:America/Chicago
BEGIN:DAYLIGHT
TZOFFSETFROM:-0600
TZOFFSETTO:-0500
TZNAME:CDT
DTSTART:20210314T080000
END:DAYLIGHT
BEGIN:STANDARD
TZOFFSETFROM:-0500
TZOFFSETTO:-0600
TZNAME:CST
DTSTART:20211107T070000
END:STANDARD
TZID:UTC
BEGIN:STANDARD
TZOFFSETFROM:+0000
TZOFFSETTO:+0000
TZNAME:UTC
DTSTART:20180101T000000
END:STANDARD
END:VTIMEZONE
BEGIN:VEVENT
DTSTART;TZID=America/Chicago:20210429T120000
DTEND;TZID=America/Chicago:20210429T130000
DTSTAMP:20260425T114109
CREATED:20210415T141253Z
LAST-MODIFIED:20210415T153826Z
UID:2036-1619697600-1619701200@lessonslearnedsol.com
SUMMARY:Combating COVID-19 with Key Performance Indicators: A Long-Term Care Perspective
DESCRIPTION:Interested in learning about an essential component in navigating day to day operational challenges intensified by COVID-19 while also learning about Bethel’s MBA Program? \nTake this opportunity to learn how consistent\, ongoing and timely management of key performance indicators can play a major role in managing increasingly tightening financial operating margins in times like these.  Join us for this one-hour webinar on Thursday\, April 29 at 12 p.m. CST. Join potential\, current MBA students as well as MBA alumni for this interactive session with Bethel University MBA instructor and healthcare professional\, Ric Olson. There will be a drawing for prizes. Invite a friend too! \n  \nClick here to register.\n  \nContact Carrie Ficocello at c-ficocello@bethel.edu with any questions.
URL:https://lessonslearnedsol.com/event/combating-covid-19-with-key-performance-indicators-a-long-term-care-perspective/
LOCATION:Online
ATTACH;FMTTYPE=image/png:https://lessonslearnedsol.com/wp-content/uploads/2021/04/Bethel-Covid-KPI-1.png
END:VEVENT
BEGIN:VEVENT
DTSTART;TZID=UTC:20181107T080000
DTEND;TZID=UTC:20181107T170000
DTSTAMP:20260425T114109
CREATED:20181107T211102Z
LAST-MODIFIED:20181107T211102Z
UID:1207-1541577600-1541610000@lessonslearnedsol.com
SUMMARY:Test Event
DESCRIPTION:Come to our Event
URL:https://lessonslearnedsol.com/event/test-event/
LOCATION:MN
END:VEVENT
END:VCALENDAR