BEGIN:VCALENDAR
VERSION:2.0
PRODID:-//Lesson Learned Solutions - ECPv6.0.7//NONSGML v1.0//EN
CALSCALE:GREGORIAN
METHOD:PUBLISH
X-ORIGINAL-URL:https://lessonslearnedsol.com
X-WR-CALDESC:Events for Lesson Learned Solutions
REFRESH-INTERVAL;VALUE=DURATION:PT1H
X-Robots-Tag:noindex
X-PUBLISHED-TTL:PT1H
BEGIN:VTIMEZONE
TZID:America/Chicago
BEGIN:DAYLIGHT
TZOFFSETFROM:-0600
TZOFFSETTO:-0500
TZNAME:CDT
DTSTART:20220313T080000
END:DAYLIGHT
BEGIN:STANDARD
TZOFFSETFROM:-0500
TZOFFSETTO:-0600
TZNAME:CST
DTSTART:20221106T070000
END:STANDARD
END:VTIMEZONE
BEGIN:VEVENT
DTSTART;TZID=America/Chicago:20220208T080000
DTEND;TZID=America/Chicago:20220211T170000
DTSTAMP:20260425T125407
CREATED:20220103T184505Z
LAST-MODIFIED:20220104T153350Z
UID:2372-1644307200-1644598800@lessonslearnedsol.com
SUMMARY:2022 Institute & Expo – Momentum
DESCRIPTION:Welcome to the 2022 Institute & Expo – Momentum!\nMomentum is what propels our field forward. When harnessed\, nurtured\, and built upon\, it can spread quickly and fuel significant growth. Our world has changed. Our field has changed. We have changed. Now it’s time to build on what we have accomplished to prepare for what lies ahead. \nThe 2022 Institute & Expo is the place to reconnect with your peers and your purpose; to learn from experts in top notch education sessions; to gather business intelligence in the expo\, and to replenish yourself with new ideas\, solutions\, inspiration and support from your LeadingAge Minnesota family. \nEvent Brochure\nRegistration now open! Register Today!\nSave $100 by registering on or before Jan. 4\, 2022! \nMore Information\nFebruary 8th-11th  \nTuesday\, Feb. 8:   1 – 5:30 p.m.\nWednesday\, Feb. 9:   7 a.m. – 5:15 p.m.\nThursday\, Feb. 10:   7:30 a.m. – 4:45 p.m.\nFriday\, Feb. 11:   8 a.m. – 12:30 p.m. \n  \nRic Olson will be presenting:  \nPutting Principles and Leadership into Action (page 13 of Brochure) \nNo Margin\, No Mission: Building Stronger Small Rural Aging Services Providers (page 31 of Brochure) \n 
URL:https://lessonslearnedsol.com/event/2022-institute-expo-momentum/
LOCATION:RiverCentre\, St. Paul\, 175 W Kellogg Blvd\, St Paul\, MN 55102\, St. Paul\, MN\, 55102\, United States
ATTACH;FMTTYPE=image/jpeg:https://lessonslearnedsol.com/wp-content/uploads/2022/01/2022_Institute_Banner_1-scaled.jpg
END:VEVENT
END:VCALENDAR